BEGIN:VCALENDAR
VERSION:2.0
CALSCALE:GREGORIAN
PRODID:-//Diputació de Barcelona//DibaCMS//EN
BEGIN:VEVENT
UID:7449
DTSTAMP:20260422T005332
DTSTART:20260125T090000
DTEND:20260125T140000
SUMMARY:Fira de la Baronia d'Òdena 2026
LOCATION:Nucli antic d'Òdena 
METHOD:PUBLISH
X-WR-CALNAME:odena@odena.cat
X-WR-TIMEZONE:Europe/Madrid
DESCRIPTION:
URI:https://www.odena.cat/actualitat/agenda/fira-de-la-baronia-dodena-2026.html
CLASS:PUBLIC
END:VEVENT
END:VCALENDAR
